BEGIN:VCALENDAR
VERSION:2.0
PRODID:Events Booking
BEGIN:VEVENT
UID:69ed6ce1d5c3d
SUMMARY:Comcast Firewall Foundation Workshop
DESCRIPTION:Cisco Secure Firewall 10.0 Lab v1
LOCATION:Virtual
DTSTART:20260427T140000Z
DTEND:20260427T180000Z
DTSTAMP:20260423T183724Z
ORGANIZER;CN=Cisco Security Workshops:MAILTO:no-reply@ciscosecurityworkshop
 .com
GEO:25;-80.226529
X-APPLE-STRUCTURED-LOCATION;VALUE=URI;X-ADDRESS=Virtual;X-APPLE-RADIUS=72;X
 -TITLE=Virtual:25;-80.226529
END:VEVENT
END:VCALENDAR