BEGIN:VCALENDAR
VERSION:2.0
PRODID:Events Booking
BEGIN:VEVENT
UID:69e9d3dd66df5
SUMMARY:Computer Solutions XDR Ignite 21Jul25
DESCRIPTION:The goal of this dCloud hands-on lab environment and set of sce
 narios is to provide a Field Engineer or Advanced Systems Engineer with t
 he skills and methodology required to successfully install and configure X
 DR. 
 By completing the lab scenarios included\, you will prepare yours
 elf for any upcoming XDR related customer implementations\, Proof-of-Conce
 pt/Proof-of-Value (POC/POV) installations\, or customer demonstrations. 
 
 The lab scenarios will provide you with the required XDR knowledge by 
 walking you through successful integration of multiple data sources\, conf
 iguration of the XDR console\, as well as additional device configuration
  that may be required within a customer environment. 
 Once you have com
 pleted all lab scenarios\, you should be familiar with the deployment of 
 XDR prior to performing these tasks in a customer’s production environme
 nt.
 
LOCATION:Virtual
DTSTART:20250721T150000Z
DTEND:20250722T040000Z
DTSTAMP:20250711T162148Z
ORGANIZER;CN=Cisco Security Workshops:MAILTO:no-reply@ciscosecurityworkshop
 .com
GEO:25;-80.226529
X-APPLE-STRUCTURED-LOCATION;VALUE=URI;X-ADDRESS=Virtual;X-APPLE-RADIUS=72;X
 -TITLE=Virtual:25;-80.226529
END:VEVENT
END:VCALENDAR