BEGIN:VCALENDAR
VERSION:2.0
PRODID:Events Booking
BEGIN:VEVENT
UID:69ea804388c25
SUMMARY:Comstor ASEAN Firewall Seeding TTT
DESCRIPTION:
DTSTART:20260304T020000Z
DTEND:20260304T090000Z
DTSTAMP:20260304T012837Z
ORGANIZER;CN=Cisco Security Workshops:MAILTO:no-reply@ciscosecurityworkshop
 .com
END:VEVENT
END:VCALENDAR