BEGIN:VCALENDAR
VERSION:2.0
PRODID:Events Booking
BEGIN:VEVENT
UID:69ea4704883d2
SUMMARY:Comstor - Cisco HMF (Denmark)
DESCRIPTION:
DTSTART:20260415T070000Z
DTEND:20260415T150000Z
DTSTAMP:20260325T093653Z
ORGANIZER;CN=Cisco Security Workshops:MAILTO:no-reply@ciscosecurityworkshop
 .com
END:VEVENT
END:VCALENDAR