BEGIN:VCALENDAR
VERSION:2.0
PRODID:Events Booking
BEGIN:VEVENT
UID:69ea4a6377cfe
SUMMARY:Comstor - Cisco HMF Workshop (France)
DESCRIPTION:
DTSTART:20260415T060000Z
DTEND:20260415T200000Z
DTSTAMP:20260303T164135Z
ORGANIZER;CN=Cisco Security Workshops:MAILTO:no-reply@ciscosecurityworkshop
 .com
END:VEVENT
END:VCALENDAR