BEGIN:VCALENDAR
VERSION:2.0
PRODID:Events Booking
BEGIN:VEVENT
UID:69ea479e4a2f4
SUMMARY:Comstor - Cisco HMF (Iceland)
DESCRIPTION:
DTSTART:20260331T080000Z
DTEND:20260331T160000Z
DTSTAMP:20260330T123724Z
ORGANIZER;CN=Cisco Security Workshops:MAILTO:no-reply@ciscosecurityworkshop
 .com
END:VEVENT
END:VCALENDAR