BEGIN:VCALENDAR
VERSION:2.0
PRODID:Events Booking
BEGIN:VEVENT
UID:69ea4728988b0
SUMMARY:Comstor - Cisco HMF (KSA)
DESCRIPTION:
DTSTART:20260414T060000Z
DTEND:20260414T140000Z
DTSTAMP:20260402T134500Z
ORGANIZER;CN=Cisco Security Workshops:MAILTO:no-reply@ciscosecurityworkshop
 .com
END:VEVENT
END:VCALENDAR