BEGIN:VCALENDAR
VERSION:2.0
PRODID:Events Booking
BEGIN:VEVENT
UID:69ea47e7212d1
SUMMARY:Comstor - Cisco HMF (Morocco\, Algeria\, Tunisia)
DESCRIPTION:
DTSTART:20260416T080000Z
DTEND:20260416T170000Z
DTSTAMP:20260325T095719Z
ORGANIZER;CN=Cisco Security Workshops:MAILTO:no-reply@ciscosecurityworkshop
 .com
END:VEVENT
END:VCALENDAR