BEGIN:VCALENDAR
VERSION:2.0
PRODID:Events Booking
BEGIN:VEVENT
UID:69ea05b15830c
SUMMARY: Comstor - Cisco HMF (Netherlands)
DESCRIPTION:
DTSTART:20260423T070000Z
DTEND:20260423T150000Z
DTSTAMP:20260319T210906Z
ORGANIZER;CN=Cisco Security Workshops:MAILTO:no-reply@ciscosecurityworkshop
 .com
END:VEVENT
END:VCALENDAR