BEGIN:VCALENDAR
VERSION:2.0
PRODID:Events Booking
BEGIN:VEVENT
UID:69ea4988a8191
SUMMARY:Comstor - Cisco HMF (Netherlands)
DESCRIPTION:
DTSTART:20260417T100000Z
DTEND:20260417T180000Z
DTSTAMP:20260304T095858Z
ORGANIZER;CN=Cisco Security Workshops:MAILTO:no-reply@ciscosecurityworkshop
 .com
END:VEVENT
END:VCALENDAR