BEGIN:VCALENDAR
VERSION:2.0
PRODID:Events Booking
BEGIN:VEVENT
UID:69ea08775288a
SUMMARY:Comstor - Cisco HMF (Nigeria & Ghana)
DESCRIPTION:
DTSTART:20260424T080000Z
DTEND:20260424T160000Z
DTSTAMP:20260417T094707Z
ORGANIZER;CN=Cisco Security Workshops:MAILTO:no-reply@ciscosecurityworkshop
 .com
END:VEVENT
END:VCALENDAR