BEGIN:VCALENDAR
VERSION:2.0
PRODID:Events Booking
BEGIN:VEVENT
UID:69ea068bb0756
SUMMARY:Comstor - Cisco HMF (Portugal)
DESCRIPTION:
DTSTART:20260423T070000Z
DTEND:20260423T150000Z
DTSTAMP:20260417T093802Z
ORGANIZER;CN=Cisco Security Workshops:MAILTO:no-reply@ciscosecurityworkshop
 .com
END:VEVENT
END:VCALENDAR