BEGIN:VCALENDAR
VERSION:2.0
PRODID:Events Booking
BEGIN:VEVENT
UID:69ea479c2fcb0
SUMMARY:Comstor - Cisco HMF (Sweden)
DESCRIPTION:
DTSTART:20260421T070000Z
DTEND:20260421T150000Z
DTSTAMP:20260325T143138Z
ORGANIZER;CN=Cisco Security Workshops:MAILTO:no-reply@ciscosecurityworkshop
 .com
END:VEVENT
END:VCALENDAR