BEGIN:VCALENDAR
VERSION:2.0
PRODID:Events Booking
BEGIN:VEVENT
UID:69ea47282f574
SUMMARY:Comstor HMFW 7APR
DESCRIPTION:
LOCATION:Kampong Ampat\, Singapore\, 368324\, Singapore
DTSTART:20260407T060000Z
DTEND:20260406T160000Z
DTSTAMP:20260402T084707Z
ORGANIZER;CN=Cisco Security Workshops:MAILTO:no-reply@ciscosecurityworkshop
 .com
GEO:1.334851;103.883712
X-APPLE-STRUCTURED-LOCATION;VALUE=URI;X-ADDRESS=Kampong Ampat\, Singapore\,
  368324\, Singapore;X-APPLE-RADIUS=72;X-TITLE=Comstor Singapore:1.334851;1
 03.883712
END:VEVENT
END:VCALENDAR