BEGIN:VCALENDAR
VERSION:2.0
PRODID:Events Booking
BEGIN:VEVENT
UID:69ea4ddd3786b
SUMMARY:FY26 Firewall Training – Seed Unit Promotion – 02/05/2026 – C
 isco Led
DESCRIPTION:
LOCATION:Chino Roces Avenue\, Makati\, 1231 Metro Manila\, Philippines
DTSTART:20260304T200000Z
DTEND:20260305T150000Z
DTSTAMP:20260128T034026Z
ORGANIZER;CN=Cisco Security Workshops:MAILTO:no-reply@ciscosecurityworkshop
 .com
GEO:14.542915;121.018132
X-APPLE-STRUCTURED-LOCATION;VALUE=URI;X-ADDRESS=Chino Roces Avenue\, Makati
 \, 1231 Metro Manila\, Philippines;X-APPLE-RADIUS=72;X-TITLE=Comstor PH - 
 Wilcon IT Hub:14.542915;121.018132
END:VEVENT
END:VCALENDAR