BEGIN:VCALENDAR
VERSION:2.0
PRODID:Events Booking
BEGIN:VEVENT
UID:69ea47ed6f88c
SUMMARY:Comstor Pseudo Meteor Hybrid Mesh Firewall
DESCRIPTION:
LOCATION:Singapore
DTSTART:20260407T075000Z
DTEND:20260407T155500Z
DTSTAMP:20260407T074527Z
ORGANIZER;CN=Cisco Security Workshops:MAILTO:no-reply@ciscosecurityworkshop
 .com
GEO:1.289918;103.851907
X-APPLE-STRUCTURED-LOCATION;VALUE=URI;X-ADDRESS=Singapore;X-APPLE-RADIUS=72
 ;X-TITLE=Singapore:1.289918;103.851907
END:VEVENT
END:VCALENDAR