BEGIN:VCALENDAR
VERSION:2.0
PRODID:Events Booking
BEGIN:VEVENT
UID:69ea479bc27c2
SUMMARY:Comstor TTT FW (7APR)
DESCRIPTION:Comstor will be running a TTT HMFW workshop representative of t
 he business in Singapore 
LOCATION:Kampong Ampat\, Singapore\, 368324\, Singapore
DTSTART:20260407T060000Z
DTEND:20260406T160000Z
DTSTAMP:20260402T081157Z
ORGANIZER;CN=Cisco Security Workshops:MAILTO:no-reply@ciscosecurityworkshop
 .com
GEO:1.334851;103.883712
X-APPLE-STRUCTURED-LOCATION;VALUE=URI;X-ADDRESS=Kampong Ampat\, Singapore\,
  368324\, Singapore;X-APPLE-RADIUS=72;X-TITLE=Comstor Singapore:1.334851;1
 03.883712
END:VEVENT
END:VCALENDAR