BEGIN:VCALENDAR
VERSION:2.0
PRODID:Events Booking
BEGIN:VEVENT
UID:69e85bfdd3b7f
SUMMARY:Conscia UK - Secure Access Workshop
DESCRIPTION:
LOCATION:London Eye - Waterloo Pier\, The Queen's Walk\, South Bank\, Water
 loo\, London Borough of Lambeth\, Greater London\, England\, SE1 7PG\, Uni
 ted Kingdom
DTSTART:20260415T080000Z
DTEND:20260415T200000Z
DTSTAMP:20260409T112928Z
ORGANIZER;CN=Cisco Security Workshops:MAILTO:no-reply@ciscosecurityworkshop
 .com
GEO:51.501049;-0.121658
X-APPLE-STRUCTURED-LOCATION;VALUE=URI;X-ADDRESS=London Eye - Waterloo Pier\
 , The Queen's Walk\, South Bank\, Waterloo\, London Borough of Lambeth\, G
 reater London\, England\, SE1 7PG\, United Kingdom;X-APPLE-RADIUS=72;X-TIT
 LE=London:51.501049;-0.121658
END:VEVENT
END:VCALENDAR