BEGIN:VCALENDAR
VERSION:2.0
PRODID:Events Booking
BEGIN:VEVENT
UID:69ea85e7a7b1c
SUMMARY:Cox ATL RIR
DESCRIPTION:🎯 Mission Briefing: Kick off your adventure with a hands-on 
 lab designed to enhance your investigation and incident response expertise
 .
 🌐 Defend against sophisticated APTs with Cisco XDR: Learn how to em
 power your teams to go from endless investigation to remediating the highe
 st priority incidents with greater speed\, efficiency\, and confidence. We
  will explore how to:
 · Identify patterns and correlations in threat ac
 tivity with root cause and attack chain analysis
 · Leverage machine lea
 rning to prioritize incidents based on risk and impact
 · Elevate produc
 tivity with automation and guidance
 🍽️ Refuel and Recharge: All th
 at work sure works up an appetite! Join us for lunch to seize networking o
 pportunities within the cybersecurity community and cultivate valuable con
 nections
LOCATION:756 W Peachtree St NW Atlanta\, Georgia 30308 United States
DTSTART:20250924T120000Z
DTEND:20250924T200000Z
DTSTAMP:20250918T135332Z
ORGANIZER;CN=Cisco Security Workshops:MAILTO:no-reply@ciscosecurityworkshop
 .com
GEO:33.775314;-84.387418
X-APPLE-STRUCTURED-LOCATION;VALUE=URI;X-ADDRESS=756 W Peachtree St NW Atlan
 ta\, Georgia 30308 United States;X-APPLE-RADIUS=72;X-TITLE=Cisco Office At
 lanta:33.775314;-84.387418
END:VEVENT
END:VCALENDAR