BEGIN:VCALENDAR
VERSION:2.0
PRODID:Events Booking
BEGIN:VEVENT
UID:69e9d046a02d4
SUMMARY:CSA Deep Dive - Shanghai
DESCRIPTION:
LOCATION:Huangpu District\, 200001 Shanghai\, China
DTSTART:20260526T010000Z
DTEND:20260526T080000Z
DTSTAMP:20260421T092321Z
ORGANIZER;CN=Cisco Security Workshops:MAILTO:no-reply@ciscosecurityworkshop
 .com
GEO:31.232344;121.469102
X-APPLE-STRUCTURED-LOCATION;VALUE=URI;X-ADDRESS=Huangpu District\, 200001 S
 hanghai\, China;X-APPLE-RADIUS=72;X-TITLE=Cisco Office Shanghai:31.232344;
 121.469102
END:VEVENT
END:VCALENDAR