BEGIN:VCALENDAR
VERSION:2.0
PRODID:Events Booking
BEGIN:VEVENT
UID:69e9d42569165
SUMMARY:CSA-ZTA-PRG
DESCRIPTION:V tomto praktickém kurzu s průvodcem prozkoumáte\, jak navrh
 ovat\, nasazovat a ověřovat moderní řešení Zero Trust Access pomocí
  Cisco Secure Access. Během cvičení se ujmete role administrátora fikt
 ivní organizace PseudoCo a budete konfigurovat zabezpečené připojení 
 mezi vzdálenými uživateli a soukromými aplikacemi hostovanými v zabez
 pečeném datovém centru.
 Účastníci budou mít plný administrátors
 ký přístup k prostředí virtuálního datového centra nasazeného v j
 edné z lokalit Cisco dCloud Data Center\, které obsahuje veškerou infr
 astrukturu potřebnou pro integraci se Secure Access.
 Každý účastní
 k bude mít také plný přístup k unikátní organizaci Secure Access. T
 yto organizace (Orgs) jsou plně připraveny pro konfiguraci infrastruktur
 y.
 Pro přístup na workshop použijte prosím v aktuálním dni tento o
 dkaz (pokud bude požadován enrollment klíč\, tak ten je: CSA_ZTA_PRG_0
 611):
LOCATION:Pujmanové\, Prague\, 14000 Prague\, Czechia
DTSTART:20260611T063000Z
DTEND:20260611T160000Z
DTSTAMP:20260305T142330Z
ORGANIZER;CN=Cisco Security Workshops:MAILTO:no-reply@ciscosecurityworkshop
 .com
GEO:50.049898;14.435273
X-APPLE-STRUCTURED-LOCATION;VALUE=URI;X-ADDRESS=Pujmanové\, Prague\, 14000
  Prague\, Czechia;X-APPLE-RADIUS=72;X-TITLE=Cisco Office Prague:50.049898;
 14.435273
END:VEVENT
END:VCALENDAR