BEGIN:VCALENDAR
VERSION:2.0
PRODID:Events Booking
BEGIN:VEVENT
UID:69e9d3de68472
SUMMARY:CSA-ZTA-BLA
DESCRIPTION:V tomto praktickém kurzu s průvodcem prozkoumáte\, jak navrh
 ovat\, nasazovat a ověřovat moderní řešení Zero Trust Access pomocí
  Cisco Secure Access. Během cvičení se ujmete role administrátora fikt
 ivní organizace PseudoCo a budete konfigurovat zabezpečené připojení 
 mezi vzdálenými uživateli a soukromými aplikacemi hostovanými v zabez
 pečeném datovém centru.
 Účastníci budou mít plný administrátors
 ký přístup k prostředí virtuálního datového centra nasazeného v j
 edné z lokalit Cisco dCloud Data Center\, které obsahuje veškerou infr
 astrukturu potřebnou pro integraci se Secure Access.
 Každý účastní
 k bude mít také plný přístup k unikátní organizaci Secure Access. T
 yto organizace (Orgs) jsou plně připraveny pro konfiguraci infrastruktur
 y.
 Pro přístup na workshop použijte prosím v aktuálním dni tento o
 dkaz (pokud bude požadován enrollment klíč\, tak ten je: CSA_ZTA_BLA_0
 617):
LOCATION:Pribinova\, Bratislava\, 811 09 Region of Bratislava\, Slovakia
DTSTART:20260617T063000Z
DTEND:20260617T160000Z
DTSTAMP:20260305T142212Z
ORGANIZER;CN=Cisco Security Workshops:MAILTO:no-reply@ciscosecurityworkshop
 .com
GEO:48.139779;17.127156
X-APPLE-STRUCTURED-LOCATION;VALUE=URI;X-ADDRESS=Pribinova\, Bratislava\, 81
 1 09 Region of Bratislava\, Slovakia;X-APPLE-RADIUS=72;X-TITLE=Cisco offic
 e Bratislava:48.139779;17.127156
END:VEVENT
END:VCALENDAR