BEGIN:VCALENDAR
VERSION:2.0
PRODID:Events Booking
BEGIN:VEVENT
UID:69e9cff81d707
SUMMARY:CSF-MetaAge
DESCRIPTION:
LOCATION:Online
DTSTART:20260424T100000Z
DTEND:20260424T170000Z
DTSTAMP:20260420T083152Z
ORGANIZER;CN=Cisco Security Workshops:MAILTO:no-reply@ciscosecurityworkshop
 .com
END:VEVENT
END:VCALENDAR