BEGIN:VCALENDAR
VERSION:2.0
PRODID:Events Booking
BEGIN:VEVENT
UID:69ea48ef9a54c
SUMMARY:Demostack Presenter Training
DESCRIPTION:Welcome to the Demostack Presenter training course. We look for
 ward to giving you the knowledge to use Demostack as another tool for pres
 enting great demo's.
LOCATION:Virtual
DTSTART:20250912T050000Z
DTEND:20250913T035500Z
DTSTAMP:20250908T114515Z
ORGANIZER;CN=Cisco Security Workshops:MAILTO:no-reply@ciscosecurityworkshop
 .com
GEO:25;-80.226529
X-APPLE-STRUCTURED-LOCATION;VALUE=URI;X-ADDRESS=Virtual;X-APPLE-RADIUS=72;X
 -TITLE=Virtual:25;-80.226529
END:VEVENT
END:VCALENDAR