BEGIN:VCALENDAR
VERSION:2.0
PRODID:Events Booking
BEGIN:VEVENT
UID:69ea48ef17727
SUMMARY:Des Moines RIR Workshop
DESCRIPTION:You’re invited to attend our Rapid Incident Response Workshop
 . Get hands on experience with the Cisco XDR platform!
 Defend against la
 teral cybersecurity attacks such as Ransomware
 Effectively detect and ne
 utralize threats before they damage your assets
 Reduce Mean Time to Reme
 diation from weeks to minutes
  
 Big Grove Brewery &amp\; Taproom
 55
 5 17th Street\, Des Moines\, IA 50309
 Tuesday\, June 24th @ 9:30-1pm CDT
 
 Workshop Registration Link:  Register Here
  
  
 Deep Dive into 
 Cisco XDR
 Gain hands-on experience with advanced technology that empower
 s defenders. Discover how Cisco XDR integrates data from your environment 
 for enhanced visibility and threat intelligence.
 Live Threat Scenarios

  Immerse yourself in real world threat scenarios crafted by industry exper
 ts. Feel the adrenaline rush as you uncover hidden threats lurking in your
  network and learn how to swiftly respond using Cisco XDR's advanced detec
 tion capabilities.
 Master Class in Threat Triage
 Enhance your threat h
 unting skills with expert advice on scoping and prioritizing threats. Disc
 over
 effective strategies to quickly contain and remediate incidents\, r
 educing damage and restoring
 normal operations.
 Networking and Collabo
 ration
 Connect with cybersecurity professionals to share insights\, exch
 ange best practices\, and build
 valuable connections that enhance your c
 ybersecurity skills beyond the workshop.
 Exclusive Insights from Cisco E
 xperts
 Gain insights from Cisco's cybersecurity experts on trends\, thre
 ats\, and best practices.
LOCATION:555 17th St\, Des Moines\, IA 50309
DTSTART:20250624T130000Z
DTEND:20250624T200000Z
DTSTAMP:20250312T153613Z
ORGANIZER;CN=Cisco Security Workshops:MAILTO:no-reply@ciscosecurityworkshop
 .com
GEO:41.586434;-93.639475
X-APPLE-STRUCTURED-LOCATION;VALUE=URI;X-ADDRESS=555 17th St\, Des Moines\, 
 IA 50309;X-APPLE-RADIUS=72;X-TITLE=Big Grove Brewery and Taproom:41.586434
 ;-93.639475
END:VEVENT
END:VCALENDAR