BEGIN:VCALENDAR
VERSION:2.0
PRODID:Events Booking
BEGIN:VEVENT
UID:69ea4de64429b
SUMMARY:Disti HMF Project Meteor TTT
DESCRIPTION:
DTSTART:20260225T130000Z
DTEND:20260225T210000Z
DTSTAMP:20260223T221359Z
ORGANIZER;CN=Cisco Security Workshops:MAILTO:no-reply@ciscosecurityworkshop
 .com
END:VEVENT
END:VCALENDAR