BEGIN:VCALENDAR
VERSION:2.0
PRODID:Events Booking
BEGIN:VEVENT
UID:69e82cc1ae0f6
SUMMARY:Dry Run - SSE Premier Workshop
DESCRIPTION:
DTSTART:20251128T080000Z
DTEND:20251128T180000Z
DTSTAMP:20251127T094615Z
ORGANIZER;CN=Cisco Security Workshops:MAILTO:no-reply@ciscosecurityworkshop
 .com
END:VEVENT
END:VCALENDAR