BEGIN:VCALENDAR
VERSION:2.0
PRODID:Events Booking
BEGIN:VEVENT
UID:69ea152e0c7ce
SUMMARY:EMEA Breach Fire Jumper XDR Ignite - Israel
DESCRIPTION:
LOCATION:Center District\, Israel
DTSTART:20251111T063000Z
DTEND:20251111T160000Z
DTSTAMP:20251027T081921Z
ORGANIZER;CN=Cisco Security Workshops:MAILTO:no-reply@ciscosecurityworkshop
 .com
GEO:32.313722;34.866758
X-APPLE-STRUCTURED-LOCATION;VALUE=URI;X-ADDRESS=Center District\, Israel;X-
 APPLE-RADIUS=72;X-TITLE=Netanya\, Israel:32.313722;34.866758
END:VEVENT
END:VCALENDAR