BEGIN:VCALENDAR
VERSION:2.0
PRODID:Events Booking
BEGIN:VEVENT
UID:69e7ed331e169
SUMMARY:EMEA Re-Ignite Hybrid Mesh Firewall Roadshow TTT (April 2-3)  
DESCRIPTION:Firepower Re-Ignite Hybrid Mesh Firewall TTT (April 2-3)
LOCATION:Reading\, RG2 6GF England\, United Kingdom
DTSTART:20250402T080000Z
DTEND:20250404T235500Z
DTSTAMP:20250327T140113Z
ORGANIZER;CN=Cisco Security Workshops:MAILTO:no-reply@ciscosecurityworkshop
 .com
GEO:51.425196;-0.99189
X-APPLE-STRUCTURED-LOCATION;VALUE=URI;X-ADDRESS=Reading\, RG2 6GF England\,
  United Kingdom;X-APPLE-RADIUS=72;X-TITLE=Cisco Office - Reading Green Par
 k:51.425196;-0.99189
END:VEVENT
END:VCALENDAR