BEGIN:VCALENDAR
VERSION:2.0
PRODID:Events Booking
BEGIN:VEVENT
UID:69ea4f2399dbf
SUMMARY:Fire Jumper Breach and User Base Tour - Warsaw
DESCRIPTION:Cisco’s Fire Jumper Breach Base Tour
  
 See Cisco XDR in 
 action. Earn your Fire Jumper stripes. Welcome to the Cisco Fire Jumper Br
 each Base Tour!
  
 Join us for a 2-day\, hands-on workshop built for t
 oday’s security professionals. You’ll explore how Cisco XDR integrates
  with a broad range of security tools to enhance visibility\, speed detect
 ion\, and streamline threat response.
  
 Work through real-world threa
 t scenarios in a live lab environment\, develop practical skills\, and tak
 e a major step toward earning your Cisco Fire Jumper certificate.
  
 C
 omplete Stage 3 POV lab exercises and demo validations to accelerate your 
 path to a Fire Jumper certificate and deepen your proficiency across Cisco
 ’s integrated security architecture. Achieving Fire Jumper status reinfo
 rces your organization’s technical capabilities\, boosts your Security P
 artner Value Index\, and grants access to advanced presales incentives and
  exclusive program benefits.
  
  
 Mandatory Prerequisites:
  
 Q
 uiz - Security Essentials FJ Sales and SE Stage 1 2025\;
 Black Belt Fire
  Jumper Presales Stage 1 - Security Essentials (June 2025)
  
 AND
  
 
 Quiz - XDR FJ SE Stage 2 2025 (or the 2024 version for Presales/SEs)\;
 
 Black Belt Fire Jumper XDR Presales Stage 2 (June 2025)
  
 AND
  
 
 One more FJ SE Stage 2 quiz of your choice (2024 or 2025 version for Pre
 sales/SEs)
 To maximize the value of the Fire Jumper Breach Base Tour\, w
 e highly recommend that this additional quiz be one of the following:
 Qu
 iz - Secure Endpoint FJ SE Stage 2 2025
 Black Belt Fire Jumper Secure En
 dpoint Presales Stage 2 (June 2025) OR
  
  
 Quiz - Secure Network A
 nalytics FJ SE Stage 2 2025
 Black Belt Fire Jumper Secure Network Analyt
 ics Presales Stage 2 (June 2025)
  
  
 TIPS FOR SUCCESS: Allocate ti
 me to carefully review the training materials so you can pass the quizzes 
 AND form a solid understanding of the products to succeed in the base tour
  sessions and proof-of-performance validation activities.
  
  
 Key 
 Takeaways:
  
 Hands-on training for Cisco XDR and integrated tools to 
 enhance telemetry and speed threat investigation\, detection\, and respons
 e
 Live lab experience simulating real-world threats
 Advancement toward
  Cisco Fire Jumper Stage 3 completion
 Elevated Cisco Security Partner Va
 lue Index and access exclusive partner incentives
  
  
 We can’t w
 ait to see you at the Cisco Fire Jumper Breach Base Tour. Gear up\, level 
 up\, and get ready to lead the front line of cyber defense!
  
  
 Fo
 r more information about Cisco Fire Jumper base tours and operations\, ple
 ase visit the base tour community page.
  
 For any questions or issues
  write to event-program-managers@cisco.com
  
LOCATION:Poland
DTSTART:20251118T080000Z
DTEND:20251118T160000Z
DTSTAMP:20251016T074741Z
ORGANIZER;CN=Cisco Security Workshops:MAILTO:no-reply@ciscosecurityworkshop
 .com
GEO:52.215933;19.134422
X-APPLE-STRUCTURED-LOCATION;VALUE=URI;X-ADDRESS=Poland;X-APPLE-RADIUS=72;X-
 TITLE=Warsaw\, Poland:52.215933;19.134422
END:VEVENT
END:VCALENDAR