BEGIN:VCALENDAR
VERSION:2.0
PRODID:Events Booking
BEGIN:VEVENT
UID:69ea4adfaab39
SUMMARY:Firejumper Breach Protection - Dubai
DESCRIPTION:
LOCATION:A004-024\, Al Safouh 2 Knowledge Village Dubai\, Dubai 500321 Unit
 ed Arab Emirates
DTSTART:20260127T030000Z
DTEND:20260127T195500Z
DTSTAMP:20251223T054124Z
ORGANIZER;CN=Cisco Security Workshops:MAILTO:no-reply@ciscosecurityworkshop
 .com
GEO:25.104478;55.167117
X-APPLE-STRUCTURED-LOCATION;VALUE=URI;X-ADDRESS=A004-024\, Al Safouh 2 Know
 ledge Village Dubai\, Dubai 500321 United Arab Emirates;X-APPLE-RADIUS=72;
 X-TITLE=Cisco Office - Dubai:25.104478;55.167117
END:VEVENT
END:VCALENDAR