BEGIN:VCALENDAR
VERSION:2.0
PRODID:Events Booking
BEGIN:VEVENT
UID:69ea139fea5d5
SUMMARY:Firejumper Breach Protection - Qatar 10th Feb 
DESCRIPTION:
LOCATION:강남대지하차도\, Yongin\, 16978 Gyeonggi-do\, South Korea
DTSTART:20260210T050000Z
DTEND:20260210T205500Z
DTSTAMP:20260108T113746Z
ORGANIZER;CN=Cisco Security Workshops:MAILTO:no-reply@ciscosecurityworkshop
 .com
GEO:37.270274;127.126002
X-APPLE-STRUCTURED-LOCATION;VALUE=URI;X-ADDRESS=강남대지하차도\, Yon
 gin\, 16978 Gyeonggi-do\, South Korea;X-APPLE-RADIUS=72;X-TITLE=Cisco:37.2
 70274;127.126002
END:VEVENT
END:VCALENDAR