BEGIN:VCALENDAR
VERSION:2.0
PRODID:Events Booking
BEGIN:VEVENT
UID:69e85fa74ccc9
SUMMARY:Firejumper User Africa
DESCRIPTION:
LOCATION:Cisco Systems\, Building 2\, The Ingress\, 23 Magwa Cres\, Midrand
 \, 2090\, South Africa
DTSTART:20260326T090000Z
DTEND:20260122T180000Z
DTSTAMP:20251106T075945Z
ORGANIZER;CN=Cisco Security Workshops:MAILTO:no-reply@ciscosecurityworkshop
 .com
GEO:-26.0412;28.1281
X-APPLE-STRUCTURED-LOCATION;VALUE=URI;X-ADDRESS=Cisco Systems\, Building 2\
 , The Ingress\, 23 Magwa Cres\, Midrand\, 2090\, South Africa;X-APPLE-RADI
 US=72;X-TITLE=Cisco - Midrand\, South Africa:-26.0412;28.1281
END:VEVENT
END:VCALENDAR