BEGIN:VCALENDAR
VERSION:2.0
PRODID:Events Booking
BEGIN:VEVENT
UID:69e89330dad3f
SUMMARY:FireJumper User Israel
DESCRIPTION:
LOCATION:Center District\, Israel
DTSTART:20251112T070000Z
DTEND:20251112T150000Z
DTSTAMP:20251106T103104Z
ORGANIZER;CN=Cisco Security Workshops:MAILTO:no-reply@ciscosecurityworkshop
 .com
GEO:32.313722;34.866758
X-APPLE-STRUCTURED-LOCATION;VALUE=URI;X-ADDRESS=Center District\, Israel;X-
 APPLE-RADIUS=72;X-TITLE=Netanya\, Israel:32.313722;34.866758
END:VEVENT
END:VCALENDAR