BEGIN:VCALENDAR
VERSION:2.0
PRODID:Events Booking
BEGIN:VEVENT
UID:69ea479b94989
SUMMARY:Firewall 10.0 Test Drive - TechData HK partner with customer
DESCRIPTION:
LOCATION:Kwun Tong Road\, Hong Kong\, Hong Kong\, China
DTSTART:20260430T040000Z
DTEND:20260430T100000Z
DTSTAMP:20260423T080538Z
ORGANIZER;CN=Cisco Security Workshops:MAILTO:no-reply@ciscosecurityworkshop
 .com
GEO:22.31333;114.221365
X-APPLE-STRUCTURED-LOCATION;VALUE=URI;X-ADDRESS=Kwun Tong Road\, Hong Kong\
 , Hong Kong\, China;X-APPLE-RADIUS=72;X-TITLE=Tech Data - Hong Kong:22.313
 33;114.221365
END:VEVENT
END:VCALENDAR