BEGIN:VCALENDAR
VERSION:2.0
PRODID:Events Booking
BEGIN:VEVENT
UID:69ea47044005e
SUMMARY:Firewall Test Drive 10.0 - TechData HK own training
DESCRIPTION:
LOCATION:Kwun Tong Road\, Hong Kong\, Hong Kong\, China
DTSTART:20260415T020000Z
DTEND:20260416T150000Z
DTSTAMP:20260330T070627Z
ORGANIZER;CN=Cisco Security Workshops:MAILTO:no-reply@ciscosecurityworkshop
 .com
GEO:22.31333;114.221365
X-APPLE-STRUCTURED-LOCATION;VALUE=URI;X-ADDRESS=Kwun Tong Road\, Hong Kong\
 , Hong Kong\, China;X-APPLE-RADIUS=72;X-TITLE=Tech Data - Hong Kong:22.313
 33;114.221365
END:VEVENT
END:VCALENDAR