BEGIN:VCALENDAR
VERSION:2.0
PRODID:Events Booking
BEGIN:VEVENT
UID:69e81e87b0a1c
SUMMARY:Firewall Test Drive - Cloudpoint
DESCRIPTION:
 Experience the latest innovations in Cisco Secure Firewall 1
 0.0 in this lab. Discover how the Encrypted Visibility Engine (EVE) enable
 s threat detection in encrypted traffic\, while AI-driven SnortML provides
  protection against signature-less attacks. Take advantage of expanded SD-
 WAN features and improved OT security with advanced access control and con
 tainment. Seamless Splunk integration delivers robust security analytics f
 or effective incident response. This lab will help you build the knowledge
  and skills needed to highlight the strengths of Cisco Secure Firewall 10.
 0.
LOCATION:Malaysia
DTSTART:20260428T053000Z
DTEND:20260428T093000Z
DTSTAMP:20260414T031307Z
ORGANIZER;CN=Cisco Security Workshops:MAILTO:no-reply@ciscosecurityworkshop
 .com
GEO:3.152659;101.702221
X-APPLE-STRUCTURED-LOCATION;VALUE=URI;X-ADDRESS=Malaysia;X-APPLE-RADIUS=72;
 X-TITLE=Kuala Lumpur:3.152659;101.702221
END:VEVENT
END:VCALENDAR