BEGIN:VCALENDAR
VERSION:2.0
PRODID:Events Booking
BEGIN:VEVENT
UID:69ea48ee863c8
SUMMARY:Firewall Test Drive For Matrix
DESCRIPTION:
DTSTART:20251225T060000Z
DTEND:20251225T210000Z
DTSTAMP:20251221T052411Z
ORGANIZER;CN=Cisco Security Workshops:MAILTO:no-reply@ciscosecurityworkshop
 .com
END:VEVENT
END:VCALENDAR