BEGIN:VCALENDAR
VERSION:2.0
PRODID:Events Booking
BEGIN:VEVENT
UID:69e9d044a53d3
SUMMARY:Firewall Test Drive - Foundation - Technet (TVI)
DESCRIPTION:
 Experience the latest innovations in Cisco Secure Firewall 1
 0.0 in this lab. Discover how the Encrypted Visibility Engine (EVE) enable
 s threat detection in encrypted traffic\, while AI-driven SnortML provides
  protection against signature-less attacks. Also\, take advantage of expan
 ded SD-WAN features. This lab will help you build the knowledge and skills
  needed to highlight the strengths of Cisco Secure Firewall 10.0.
LOCATION:md place tower 1 jl. setia
DTSTART:20260421T230000Z
DTEND:20260422T165500Z
DTSTAMP:20260416T121217Z
ORGANIZER;CN=Cisco Security Workshops:MAILTO:no-reply@ciscosecurityworkshop
 .com
GEO:-6.21856;106.82723
X-APPLE-STRUCTURED-LOCATION;VALUE=URI;X-ADDRESS=md place tower 1 jl. setia;
 X-APPLE-RADIUS=72;X-TITLE=Comstor Office - Jakarta:-6.21856;106.82723
END:VEVENT
END:VCALENDAR