BEGIN:VCALENDAR
VERSION:2.0
PRODID:Events Booking
BEGIN:VEVENT
UID:69e9d10e9998c
SUMMARY:Firewall TestDrive Adv. 22Apr
DESCRIPTION:
LOCATION:Budapest
DTSTART:20260422T140000Z
DTEND:20260422T200000Z
DTSTAMP:20260422T160046Z
ORGANIZER;CN=Cisco Security Workshops:MAILTO:no-reply@ciscosecurityworkshop
 .com
END:VEVENT
END:VCALENDAR