BEGIN:VCALENDAR
VERSION:2.0
PRODID:Events Booking
BEGIN:VEVENT
UID:69e9d162586a6
SUMMARY:Firewall Testdrive -AMER - 22Apr26
DESCRIPTION:
 
 
 
 
 
 Experience the latest innovations in Cisco Se
 cure Firewall 10.0 in this lab. Discover how the Encrypted Visibility Engi
 ne (EVE) enables threat detection in encrypted traffic\, while AI-driven S
 nortML provides protection against signature-less attacks. Take advantage 
 of expanded SD-WAN features and improved OT security with advanced access 
 control and containment. Seamless Splunk integration delivers robust secur
 ity analytics for effective incident response. This lab will help you buil
 d the knowledge and skills needed to highlight the strengths of Cisco Secu
 re Firewall 10.0.
 
 
 
 
 
 
LOCATION:Budapest
DTSTART:20260422T160000Z
DTEND:20260422T200000Z
DTSTAMP:20260421T201705Z
ORGANIZER;CN=Cisco Security Workshops:MAILTO:no-reply@ciscosecurityworkshop
 .com
END:VEVENT
END:VCALENDAR