BEGIN:VCALENDAR
VERSION:2.0
PRODID:Events Booking
BEGIN:VEVENT
UID:69e971dc322e0
SUMMARY:Firewall Testdrive Berlin
DESCRIPTION:
 
 
 
 
 
 Tag 1: Die Cisco Firewall Probefahrt
 
 
 
 
 
 
 
 
 
 
 
 
 
 Der Schutz von IT-Systemen ist schwieriger d
 enn je. Stellen Sie sicher\, dass Ihre Firewall stark und flexibel genug i
 st\, um Ihr Unternehmen\, Ihre Apps und Ihre MitarbeiterInnen vor Bedrohun
 gen zu schützen.
 Ist Ihre Firewall fit für die Herausforderungen von h
 eute?
 Nehmen Sie an unserer Cisco Secure Firewall Probefahrt teil. Bei d
 ieser eintägigen Veranstaltung in dem Cisco Büro in Ihrer Nähe entdecke
 n Sie - begleitet vom Cisco Security Team - wie moderne Angriffstechniken 
 die Sicherheitsanforderungen verändert haben.
 Die Cisco Firewall Probef
 ahrt
 Das Ziel der Probefahrt ist es\, Ihnen ein grundlegendes Verständn
 is über die Cisco Secure Firewall Plattform durch die folgenden Punkte zu
  vermitteln:
 
 Cisco Secure Firewall Plattform Überblick\, Use Cases u
 nd Best Practices
 Kernprinzipien von Policy Design und wie führende Sch
 utzmechanismen wie Snort 3 genutzt werden können
 Hands-On Labs inkl. In
 tegrationen mit Public Cloud Anbietern
 
 Die Übungen der Labs beinhalt
 en:
 
 Grundlegende Firewall Konfiguration
 Access Control Policy Desig
 n
 Konfiguration von Bedrohungserkennung und -Abwehr
 Integration mit Pu
 blic Cloud Anbietern\, Dynamische Objekte
 Zero-Trust Access
 SD-WAN Fun
 ktionen
 Neue Funktionen der Softwareversion 7.6 wie z. B. QUIC-Decryptio
 n\, Snort Machine-Learning\, MITE-Attack Framework Integration
 KI-Assist
 ent\, Policy Analytics und Optimierung 
 
  
 Die Teilnehmer haben hi
 erbei die Möglichkeit\, zwischen einem Basis Lab (für Erstanwender und S
 chnupperkandidaten) und einem Lab für Fortgeschrittene zu auszuwählen. 
   
 Die Anzahl der Teilnehmer ist begrenzt. Reservieren Sie Ihren Platz 
 gerne schon heute.
  
 Vielen Dank\, 
 Ihr Cisco Security Team
 
 
 
 
 
 
 
LOCATION:Kurfürstendamm\, Berlin\, 10719\, Germany
DTSTART:20250512T090000Z
DTEND:20250514T230000Z
DTSTAMP:20250313T155259Z
ORGANIZER;CN=Cisco Security Workshops:MAILTO:no-reply@ciscosecurityworkshop
 .com
GEO:52.511016;13.326954
X-APPLE-STRUCTURED-LOCATION;VALUE=URI;X-ADDRESS=Kurfürstendamm\, Berlin\, 
 10719\, Germany;X-APPLE-RADIUS=72;X-TITLE=Cisco Office Berlin:52.511016;13
 .326954
END:VEVENT
END:VCALENDAR