BEGIN:VCALENDAR
VERSION:2.0
PRODID:Events Booking
BEGIN:VEVENT
UID:69e85d9339c04
SUMMARY:FJAmsterdam-SSE
DESCRIPTION:
LOCATION:Haarlerbergweg\, Amsterdam\, 1101CH North Holland\, Netherlands
DTSTART:20260205T060000Z
DTEND:20260205T220000Z
DTSTAMP:20260203T154526Z
ORGANIZER;CN=Cisco Security Workshops:MAILTO:no-reply@ciscosecurityworkshop
 .com
GEO:52.303591;4.952962
X-APPLE-STRUCTURED-LOCATION;VALUE=URI;X-ADDRESS=Haarlerbergweg\, Amsterdam\
 , 1101CH North Holland\, Netherlands;X-APPLE-RADIUS=72;X-TITLE=Cisco Amste
 rdam:52.303591;4.952962
END:VEVENT
END:VCALENDAR