BEGIN:VCALENDAR
VERSION:2.0
PRODID:Events Booking
BEGIN:VEVENT
UID:69ea86cb63ca8
SUMMARY:Foxconn FII HMFW Event
DESCRIPTION:FII HMFW Deployment exploration and discussion
LOCATION:8303 Fallbrook Dr\, Houston\, TX
DTSTART:20260310T140000Z
DTEND:20260310T170000Z
DTSTAMP:20260305T214733Z
ORGANIZER;CN=Cisco Security Workshops:MAILTO:no-reply@ciscosecurityworkshop
 .com
GEO:30.06434;-95.589274
X-APPLE-STRUCTURED-LOCATION;VALUE=URI;X-ADDRESS=8303 Fallbrook Dr\, Houston
 \, TX;X-APPLE-RADIUS=72;X-TITLE=Foxconn FII:30.06434;-95.589274
END:VEVENT
END:VCALENDAR