BEGIN:VCALENDAR
VERSION:2.0
PRODID:Events Booking
BEGIN:VEVENT
UID:69ea818d5e32b
SUMMARY:Foxconn Hybrid Mesh Firewall
DESCRIPTION:Hybrid Mesh Firewall Workshop for Foxconn Houston
DTSTART:20251215T160000Z
DTEND:20251215T180000Z
DTSTAMP:20251215T031230Z
ORGANIZER;CN=Cisco Security Workshops:MAILTO:no-reply@ciscosecurityworkshop
 .com
END:VEVENT
END:VCALENDAR