BEGIN:VCALENDAR
VERSION:2.0
PRODID:Events Booking
BEGIN:VEVENT
UID:69e9d021b5057
SUMMARY:FTD 23 Foundation 
DESCRIPTION:
LOCATION:Anywhere
DTSTART:20260422T230000Z
DTEND:20260423T160000Z
DTSTAMP:20260421T153619Z
ORGANIZER;CN=Cisco Security Workshops:MAILTO:no-reply@ciscosecurityworkshop
 .com
GEO:86.4;166.3
X-APPLE-STRUCTURED-LOCATION;VALUE=URI;X-ADDRESS=Anywhere;X-APPLE-RADIUS=72;
 X-TITLE=Virtual:86.4;166.3
END:VEVENT
END:VCALENDAR