BEGIN:VCALENDAR
VERSION:2.0
PRODID:Events Booking
BEGIN:VEVENT
UID:69e82507bff32
SUMMARY:FW Portfolio Engineers 250616 Group A
DESCRIPTION:
LOCATION:7100-8 Kit Creek Road PO Box 14987 Research Triangle Park\, North 
 Carolina 27709-4987 United States
DTSTART:20250616T130000Z
DTEND:20250617T050000Z
DTSTAMP:20250606T140647Z
ORGANIZER;CN=Cisco Security Workshops:MAILTO:no-reply@ciscosecurityworkshop
 .com
END:VEVENT
END:VCALENDAR