BEGIN:VCALENDAR
VERSION:2.0
PRODID:Events Booking
BEGIN:VEVENT
UID:69ea4f9f2c286
SUMMARY:FY26 Firewall Training – Seed Unit Promotion – 03/12/2026 – I
 ngram Micro
DESCRIPTION:
DTSTART:20260312T050000Z
DTEND:20260322T030000Z
DTSTAMP:20260305T192919Z
ORGANIZER;CN=Cisco Security Workshops:MAILTO:no-reply@ciscosecurityworkshop
 .com
END:VEVENT
END:VCALENDAR