BEGIN:VCALENDAR
VERSION:2.0
PRODID:Events Booking
BEGIN:VEVENT
UID:69ea483949b98
SUMMARY:FY26 Firewall Training - Seed Unit Promotion - 04/01/2026 – TDSYN
 NEX
DESCRIPTION:The Hybrid Mesh Firewall: Project Meteor workshop is designed 
 to equip participants with the knowledge and hands-on experience needed to
  modernize firewall strategies using Cisco’s Hybrid Mesh Firewall techno
 logy. This innovative solution unifies security across data centers\, clou
 d\, campus\, and IoT environments\, providing a highly distributed securit
 y fabric. During this session\, you will step into the shoes of a fictiona
 l engineer at PseudoCo and work through real-world scenarios that highligh
 t the power and flexibility of Cisco’s security solutions. The workshop 
 will make extensive use of Cisco Security Cloud Control and cover topics s
 uch as deployment\, SD-WAN configuration\, shared objects management\, and
  application segmentation. This is a great opportunity to build hands-on e
 xperience and deepen your understanding of modern network security practic
 es through a self-paced workshop. Key Takeaways Clear understanding of Ci
 sco’s Hybrid Mesh Firewall solution and its advantages Gain hands-on exp
 erience with Cisco Security Cloud Control for centralized and extensive se
 curity management Understand how to configure SD-WAN for optimized and sec
 ure network connectivity Explore enhanced cloud visibility to monitor and 
 protect distributed applications and data Deepen your knowledge of Shared 
 Objects and their role in efficient policy management Master application s
 egmentation techniques using both endpoint agents and the firewall for com
 prehensive security. Who Should Attend Anyone involved in firewall managem
 ent\, policy enforcement\, or security modernization initiatives Workshop 
 Format Duration: 2 hours Structure: A multi-phase\, self-contained hands-o
 n workshop Phases Include: Onboarding firewalls and simplifying branch con
 nectivity Integrating cloud policies and multi-cloud defense Configuring s
 egmentation for workloads and applications Testing threat detection capabi
 lities including encrypted traffic inspection Tools Used: Cisco Security C
 loud Control\, Secure Firewall\, Multi-cloud Defense and Secure Workload 
  SHAPE  \\* MERGEFORMAT Prerequisites Cisco account registration (CCOID)
  – Click here for more information Cisco Security Workshop account regis
 tration – Click here to register Basic understanding of firewall concept
 s and network security  SHAPE  \\* MERGEFORMAT Why Attend This Workshop 
 In today’s complex and rapidly evolving threat landscape\, traditional f
 irewall approaches are no longer sufficient. The Hybrid Mesh Firewall: Pro
 ject Meteor workshop empowers you to modernize your security posture by ad
 opting a distributed firewall fabric that scales with your enterprise need
 s. Attendees will gain practical skills to reduce attack surfaces\, preven
 t lateral movement\, and protect critical applications across hybrid envir
 onments. This workshop offers a unique opportunity to experience Cisco’s
  cutting-edge firewall technology firsthand\, enabling you to lead your or
 ganization’s security transformation with confidence and agility.
LOCATION:Virtual
DTSTART:20260401T180000Z
DTEND:20260401T210000Z
DTSTAMP:20260316T220032Z
ORGANIZER;CN=Cisco Security Workshops:MAILTO:no-reply@ciscosecurityworkshop
 .com
GEO:25;-80.226529
X-APPLE-STRUCTURED-LOCATION;VALUE=URI;X-ADDRESS=Virtual;X-APPLE-RADIUS=72;X
 -TITLE=Virtual:25;-80.226529
END:VEVENT
END:VCALENDAR