BEGIN:VCALENDAR
VERSION:2.0
PRODID:Events Booking
BEGIN:VEVENT
UID:69ea54112e9b7
SUMMARY:FY26 Firewall training - Seed Unit Promotion - 3/25/2026 -Disti Ing
 ram Micro Led
DESCRIPTION:
DTSTART:20260325T173000Z
DTEND:20260327T030000Z
DTSTAMP:20260324T200731Z
ORGANIZER;CN=Cisco Security Workshops:MAILTO:no-reply@ciscosecurityworkshop
 .com
END:VEVENT
END:VCALENDAR